BEGIN:VCALENDAR
VERSION:2.0
PRODID:-//Alpha House Society | Calgary, Alberta - ECPv6.15.20//NONSGML v1.0//EN
CALSCALE:GREGORIAN
METHOD:PUBLISH
X-WR-CALNAME:Alpha House Society | Calgary, Alberta
X-ORIGINAL-URL:https://alphahousecalgary.com
X-WR-CALDESC:Events for Alpha House Society | Calgary, Alberta
REFRESH-INTERVAL;VALUE=DURATION:PT1H
X-Robots-Tag:noindex
X-PUBLISHED-TTL:PT1H
BEGIN:VTIMEZONE
TZID:America/Edmonton
BEGIN:DAYLIGHT
TZOFFSETFROM:-0700
TZOFFSETTO:-0600
TZNAME:MDT
DTSTART:20220313T090000
END:DAYLIGHT
BEGIN:STANDARD
TZOFFSETFROM:-0600
TZOFFSETTO:-0700
TZNAME:MST
DTSTART:20221106T080000
END:STANDARD
BEGIN:DAYLIGHT
TZOFFSETFROM:-0700
TZOFFSETTO:-0600
TZNAME:MDT
DTSTART:20230312T090000
END:DAYLIGHT
BEGIN:STANDARD
TZOFFSETFROM:-0600
TZOFFSETTO:-0700
TZNAME:MST
DTSTART:20231105T080000
END:STANDARD
BEGIN:DAYLIGHT
TZOFFSETFROM:-0700
TZOFFSETTO:-0600
TZNAME:MDT
DTSTART:20240310T090000
END:DAYLIGHT
BEGIN:STANDARD
TZOFFSETFROM:-0600
TZOFFSETTO:-0700
TZNAME:MST
DTSTART:20241103T080000
END:STANDARD
END:VTIMEZONE
BEGIN:VEVENT
DTSTART;TZID=America/Edmonton:20230323T180000
DTEND;TZID=America/Edmonton:20230323T210000
DTSTAMP:20260421T083035
CREATED:20230301T192542Z
LAST-MODIFIED:20230301T192556Z
UID:3334-1679594400-1679605200@alphahousecalgary.com
SUMMARY:SAIT Students - Fundraiser
DESCRIPTION:Students from one of SAIT’s Project Management course have put together a fundraiser for Alpha House – a movie night on March 23rd! They have invited staff to attend should anyone be so inclined! Stay tuned for details.
URL:https://alphahousecalgary.com/event/sait-students-fundraiser/
CATEGORIES:3rd Party Fundraiser
ATTACH;FMTTYPE=image/jpeg:https://alphahousecalgary.com/wp-content/uploads/2019/09/alpha-featured-image.jpg
END:VEVENT
BEGIN:VEVENT
DTSTART;TZID=America/Edmonton:20230303T080000
DTEND;TZID=America/Edmonton:20230305T170000
DTSTAMP:20260421T083035
CREATED:20230301T164050Z
LAST-MODIFIED:20230301T192608Z
UID:3302-1677830400-1678035600@alphahousecalgary.com
SUMMARY:November Project Calgary - Fundraiser
DESCRIPTION:November Project Calgary is participating in the 4x4x48 Goggins Challenge on March 3rd and will be using this as a fundraiser for Alpha House! All Alpha House staff are welcome to participate! Sign up via their spreadsheet: https://docs.google.com/spreadsheets/d/12NMLpS9oMU5JcD7dBRD6IE-nOUhuri2ItY45ITrlNHA/edit#gid=0
URL:https://alphahousecalgary.com/event/4x4x48-goggins-challenge/
LOCATION:East Village Simmons Building
CATEGORIES:3rd Party Fundraiser
ATTACH;FMTTYPE=image/jpeg:https://alphahousecalgary.com/wp-content/uploads/2023/03/november-project-calgary.jpg
END:VEVENT
END:VCALENDAR