BEGIN:VCALENDAR
VERSION:2.0
PRODID:-//Alpha House Society | Calgary, Alberta - ECPv6.15.20//NONSGML v1.0//EN
CALSCALE:GREGORIAN
METHOD:PUBLISH
X-WR-CALNAME:Alpha House Society | Calgary, Alberta
X-ORIGINAL-URL:https://alphahousecalgary.com
X-WR-CALDESC:Events for Alpha House Society | Calgary, Alberta
REFRESH-INTERVAL;VALUE=DURATION:PT1H
X-Robots-Tag:noindex
X-PUBLISHED-TTL:PT1H
BEGIN:VTIMEZONE
TZID:America/Edmonton
BEGIN:DAYLIGHT
TZOFFSETFROM:-0700
TZOFFSETTO:-0600
TZNAME:MDT
DTSTART:20220313T090000
END:DAYLIGHT
BEGIN:STANDARD
TZOFFSETFROM:-0600
TZOFFSETTO:-0700
TZNAME:MST
DTSTART:20221106T080000
END:STANDARD
BEGIN:DAYLIGHT
TZOFFSETFROM:-0700
TZOFFSETTO:-0600
TZNAME:MDT
DTSTART:20230312T090000
END:DAYLIGHT
BEGIN:STANDARD
TZOFFSETFROM:-0600
TZOFFSETTO:-0700
TZNAME:MST
DTSTART:20231105T080000
END:STANDARD
BEGIN:DAYLIGHT
TZOFFSETFROM:-0700
TZOFFSETTO:-0600
TZNAME:MDT
DTSTART:20240310T090000
END:DAYLIGHT
BEGIN:STANDARD
TZOFFSETFROM:-0600
TZOFFSETTO:-0700
TZNAME:MST
DTSTART:20241103T080000
END:STANDARD
END:VTIMEZONE
BEGIN:VEVENT
DTSTART;TZID=America/Edmonton:20230719T150000
DTEND;TZID=America/Edmonton:20230719T190000
DTSTAMP:20260419T133351
CREATED:20230719T153534Z
LAST-MODIFIED:20230719T153534Z
UID:3768-1689778800-1689793200@alphahousecalgary.com
SUMMARY:Hiring Fair
DESCRIPTION:Alpha House is hosting a Hiring Fair \nDate:  Wednesday July 19\, 2023 \nTime:    3pm to 7 pm \nLocation:  404 28 St NE \nPlease apply in person\, with your resume\, references\, proof of COVID vaccination\, proof of education and driver’s license \nPlease note\, we are not able to meet with individuals who attend early or arrive late
URL:https://alphahousecalgary.com/event/hiring-fair/
LOCATION:Alpha House Administration\, 404 28 St. NE\, Calgary\, Alberta
CATEGORIES:Job Fair
ATTACH;FMTTYPE=image/png:https://alphahousecalgary.com/wp-content/uploads/2023/07/job-fair-july-19-2023.png
END:VEVENT
END:VCALENDAR